BEGIN:VCALENDAR
VERSION:2.0
PRODID:-//BookGive - ECPv6.15.20//NONSGML v1.0//EN
CALSCALE:GREGORIAN
METHOD:PUBLISH
X-WR-CALNAME:BookGive
X-ORIGINAL-URL:https://bookgivedenver.org
X-WR-CALDESC:Events for BookGive
REFRESH-INTERVAL;VALUE=DURATION:PT1H
X-Robots-Tag:noindex
X-PUBLISHED-TTL:PT1H
BEGIN:VTIMEZONE
TZID:America/Denver
BEGIN:DAYLIGHT
TZOFFSETFROM:-0700
TZOFFSETTO:-0600
TZNAME:MDT
DTSTART:20190310T090000
END:DAYLIGHT
BEGIN:STANDARD
TZOFFSETFROM:-0600
TZOFFSETTO:-0700
TZNAME:MST
DTSTART:20191103T080000
END:STANDARD
BEGIN:DAYLIGHT
TZOFFSETFROM:-0700
TZOFFSETTO:-0600
TZNAME:MDT
DTSTART:20200308T090000
END:DAYLIGHT
BEGIN:STANDARD
TZOFFSETFROM:-0600
TZOFFSETTO:-0700
TZNAME:MST
DTSTART:20201101T080000
END:STANDARD
BEGIN:DAYLIGHT
TZOFFSETFROM:-0700
TZOFFSETTO:-0600
TZNAME:MDT
DTSTART:20210314T090000
END:DAYLIGHT
BEGIN:STANDARD
TZOFFSETFROM:-0600
TZOFFSETTO:-0700
TZNAME:MST
DTSTART:20211107T080000
END:STANDARD
BEGIN:DAYLIGHT
TZOFFSETFROM:-0700
TZOFFSETTO:-0600
TZNAME:MDT
DTSTART:20220313T090000
END:DAYLIGHT
BEGIN:STANDARD
TZOFFSETFROM:-0600
TZOFFSETTO:-0700
TZNAME:MST
DTSTART:20221106T080000
END:STANDARD
BEGIN:DAYLIGHT
TZOFFSETFROM:-0700
TZOFFSETTO:-0600
TZNAME:MDT
DTSTART:20230312T090000
END:DAYLIGHT
BEGIN:STANDARD
TZOFFSETFROM:-0600
TZOFFSETTO:-0700
TZNAME:MST
DTSTART:20231105T080000
END:STANDARD
END:VTIMEZONE
BEGIN:VEVENT
DTSTART;TZID=America/Denver:20220728T160000
DTEND;TZID=America/Denver:20220728T180000
DTSTAMP:20260423T182622
CREATED:20220530T205757Z
LAST-MODIFIED:20220614T233419Z
UID:3747-1659024000-1659031200@bookgivedenver.org
SUMMARY:Read In Color Denver LAUNCH
DESCRIPTION:NEW ANNOUNCMENT: Launch event to take place at Park Hill Station Apartments\, 4055 Albion St. Denver! \nCheck back here or follow us on Instagram or Facebook to stay informed about this exciting initiative. \nBookGive has been chosen to launch Little Free Library’s Read In Color initiative to bring diverse books where they are needed in Denver. We will oversee the placement of 10 book-sharing boxes\, choosing locations that will support diverse communities in Denver-area book deserts. Little Free Library supplies the boxes and 200 diverse books to launch each location. BookGive pledges to continue supplying books into the future. \nLess than 25% of children’s books depict non-white characters. Only 3.4% of books have a main character with a disability and 3.1% have a main character who identifies as queer. (Stats here.*) \nBookGive is firmly committed to making sure all readers see characters that represent marginalized groups and have access to authors bringing the full richness of human experience. The book industry has historically centered whiteness giving us all a skewed representation. We stand with Little Free Library’s strong pledge to read and share diverse books\, lifting up marginalized perspectives in publishing. \nOver the course of the summer\, we’ll be identifying ideal locations and working closely with partner organizations like schools\, community centers\, churches\, grocery stores and rec centers where diverse books would be most welcomed and needed. \nTo get involved\, email us!
URL:https://bookgivedenver.org/event/read-in-color-denver-launch/
LOCATION:Park Hill Station Apartments\, 4055 Albion St.\, Denver\, CO\, 80216\, United States
CATEGORIES:Special Events
ATTACH;FMTTYPE=image/png:https://bookgivedenver.org/wp-content/uploads/2022/05/LFL-RIC.png
END:VEVENT
BEGIN:VEVENT
DTSTART;VALUE=DATE:20220423
DTEND;VALUE=DATE:20220424
DTSTAMP:20260423T182622
CREATED:20220331T174335Z
LAST-MODIFIED:20220331T174335Z
UID:3657-1650672000-1650758399@bookgivedenver.org
SUMMARY:Book Bouquet Class
DESCRIPTION:Come make a sweet Spring bouquet made from books!\nLearn to make paper roses and butterflies and colorful flowers for your bookish decor. \nPick your time: 1pm or 3pm\n20 spots per class \nCLICK HERE TO BUY TICKETS \nMiranda Ericksen will teach us how to make these delightful Spring book bouquets. We’ll have plenty of books on hand that would otherwise be recycled and turn them into bookish fun to take home. \nWe welcome book crafters ages 10+  to the BookGive Service Station. 20 spots per class. Choose 1pm or 3pm – both classes are the same. \n$20/person. All materials plus a snack included. \nBonus! Every participant gets to take home 5 FREE BOOKS. \nBuy your tickets here
URL:https://bookgivedenver.org/event/book-bouquet-class/
LOCATION:BookGive Service Station\, 4890 Lowell Blvd\, Denver\, CO\, 80221\, United States
CATEGORIES:Special Events
ATTACH;FMTTYPE=image/png:https://bookgivedenver.org/wp-content/uploads/2022/03/Book-Bouquet-Class.png
END:VEVENT
BEGIN:VEVENT
DTSTART;TZID=America/Denver:20201129T100000
DTEND;TZID=America/Denver:20201129T140000
DTSTAMP:20260423T182622
CREATED:20201028T192539Z
LAST-MODIFIED:20201119T174535Z
UID:2925-1606644000-1606658400@bookgivedenver.org
SUMMARY:Holiday Book Give-Away
DESCRIPTION:THIS EVENT IS CANCELLED DUE TO COVID RESTRICTIONS.\nat the BookGive Service Station\, 4890 Lowell Blvd. Denver\nIf buying gifts might be a little tougher this year\, BookGive invites you to our first Holiday Book Give-Away. \nBooks are always a welcomed gift. We have many that are literally brand new or in fine gift-worthy condition. Come browse for the loved ones on your list. We’ll include some free wrapping paper too\, while supplies last. \nNo need to prove your need. We get it. This year has been HARD. Just come get some free books to put under the tree\, by the menorah\, near the yule log\, in front of the Kwanza candles or however you exchange at the holidays. \nThis event WILL be outside\, so dress for the weather. Masks and distancing are required on our property. Gloves will be provided as needed. In the event of snow or rain\, the event will be canceled. \nWe are especially grateful to our donors and to BookBar supporters who make this event and much of what we do at BookGive possible. 10% of BookBar sales go to BookGive’s mission to make free books available to all who need them. Thank you to every donor and BookBar shopper for helping us give free books this holiday season. \nTo make a financial contribution to BookGive\, use the donate button above or click here.
URL:https://bookgivedenver.org/event/holiday-book-give-away/
LOCATION:CO
CATEGORIES:Special Events
ATTACH;FMTTYPE=image/jpeg:https://bookgivedenver.org/wp-content/uploads/2020/10/holiday-book-pile.jpg
END:VEVENT
BEGIN:VEVENT
DTSTART;TZID=America/Denver:20200907T090000
DTEND;TZID=America/Denver:20200907T140000
DTSTAMP:20260423T182622
CREATED:20200822T183004Z
LAST-MODIFIED:20200822T194435Z
UID:2871-1599469200-1599487200@bookgivedenver.org
SUMMARY:10th Annual Northwest Denver Community Book Exchange
DESCRIPTION:RESERVATIONS REQUIRED \nThis book-for-book community event started 10 years ago\, and we’re not letting a little pandemic stop us! \nFor safety\, we are hosting this event outdoors at the BookGive Service Station\, 4890 Lowell Blvd. Only 10 individuals will be allowed into the book exchange for each half hour shopping period. Every person in your party must have their own ticket for entry. Tickets are free. Reserve your tickets here. \nWe cannot accept textbooks\, encyclopedias\, comics\, and damaged or heavily annotated books. \nAll attendees\, staff and volunteers will be required to wear masks while they are on the property. Due to the fact that people may be touching various books\, gloves and hand sanitizer will be provided. Please keep this in mind when considering obtaining a ticket for anyone who may not be capable of keeping gloves on throughout the event. \nAt check-in\, we’ll count how many books you brought. You can then shop for that number of new-to-you books. For example\, if you bring five books\, you can take five books. Want to take more? No problem! You can make a financial donation to our nonprofit. \nThere will be TONS of books on tables outside the service station. The books available will have been processed more than 24 hours prior\, the amount of time recommended by the CDC and the Institute for Library and Museum Services. Attendees will be reminded upon entry to remain physically distanced while shopping. \nBookGive is a Denver nonprofit dedicated to literacy by delivering curated book collections to schools\, nonprofits and agencies through Denver metro. Your support makes it possible for us to get the right books to the right people. This event is free\, however your financial donations are always welcome. Click the DONATE button above. \nQuestions: hello@bookgivedenver.org
URL:https://bookgivedenver.org/event/10th-annual-northwest-denver-community-book-exchange/
LOCATION:CO
CATEGORIES:Special Events
ATTACH;FMTTYPE=image/png:https://bookgivedenver.org/wp-content/uploads/2020/08/BookExchange_newColors-eng-1.png
END:VEVENT
END:VCALENDAR