BEGIN:VCALENDAR
VERSION:2.0
PRODID:-//BookGive - ECPv6.15.20//NONSGML v1.0//EN
CALSCALE:GREGORIAN
METHOD:PUBLISH
X-WR-CALNAME:BookGive
X-ORIGINAL-URL:https://bookgivedenver.org
X-WR-CALDESC:Events for BookGive
REFRESH-INTERVAL;VALUE=DURATION:PT1H
X-Robots-Tag:noindex
X-PUBLISHED-TTL:PT1H
BEGIN:VTIMEZONE
TZID:America/Denver
BEGIN:DAYLIGHT
TZOFFSETFROM:-0700
TZOFFSETTO:-0600
TZNAME:MDT
DTSTART:20200308T090000
END:DAYLIGHT
BEGIN:STANDARD
TZOFFSETFROM:-0600
TZOFFSETTO:-0700
TZNAME:MST
DTSTART:20201101T080000
END:STANDARD
BEGIN:DAYLIGHT
TZOFFSETFROM:-0700
TZOFFSETTO:-0600
TZNAME:MDT
DTSTART:20210314T090000
END:DAYLIGHT
BEGIN:STANDARD
TZOFFSETFROM:-0600
TZOFFSETTO:-0700
TZNAME:MST
DTSTART:20211107T080000
END:STANDARD
BEGIN:DAYLIGHT
TZOFFSETFROM:-0700
TZOFFSETTO:-0600
TZNAME:MDT
DTSTART:20220313T090000
END:DAYLIGHT
BEGIN:STANDARD
TZOFFSETFROM:-0600
TZOFFSETTO:-0700
TZNAME:MST
DTSTART:20221106T080000
END:STANDARD
BEGIN:DAYLIGHT
TZOFFSETFROM:-0700
TZOFFSETTO:-0600
TZNAME:MDT
DTSTART:20230312T090000
END:DAYLIGHT
BEGIN:STANDARD
TZOFFSETFROM:-0600
TZOFFSETTO:-0700
TZNAME:MST
DTSTART:20231105T080000
END:STANDARD
END:VTIMEZONE
BEGIN:VEVENT
DTSTART;TZID=America/Denver:20221104T190000
DTEND;TZID=America/Denver:20221104T210000
DTSTAMP:20260423T180330
CREATED:20220930T163337Z
LAST-MODIFIED:20220930T163337Z
UID:3905-1667588400-1667595600@bookgivedenver.org
SUMMARY:Books & Bottles
DESCRIPTION:Books & Bottles is an intimate gathering to sample several luscious wines while enjoying a sneak preview to upcoming book releases yet to hit the book stores. \nBUY TICKETS HERE \nYou’ll enjoy comments and suggestions from Paul Bonacquisti of Bonacquisti Wine Company who will talk us through a carefully chosen selection of wines to taste and discuss. Emily Smolarek of Penguin Random House offers a pre-preview of upcoming titles you’ll get to hear about before anyone else. \nThe setting is the BookGive Service Station\, our renovated 1940’s era gas station filled with free books ready for donation to community organizations who need them. Imagine 20-foot ceilings and room to spread out among the stacks. Individually packaged charcuterie included. \nOnly 25 tickets available.  \nTickets are $65 per guest and include three wine tastings\, charcuterie selection and two hours of book and wine expertise and conversation with an intimate gathering of book connoisseurs. \nProceeds from this event support BookGive’s mission to increase access to high quality books in Denver metro. \nBUY TICKETS NOW \nRefund policy: Full refunds will be provided (minus Eventbrite’s transaction fee) should this event be canceled due to weather conditions or if presenters need to cancel.
URL:https://bookgivedenver.org/event/books-bottles-2/
LOCATION:BookGive Service Station\, 4890 Lowell Blvd\, Denver\, CO\, 80221\, United States
CATEGORIES:Fundraiser
ATTACH;FMTTYPE=image/png:https://bookgivedenver.org/wp-content/uploads/2022/09/Books-Bottles-4.png
END:VEVENT
BEGIN:VEVENT
DTSTART;TZID=America/Denver:20220223T183000
DTEND;TZID=America/Denver:20220223T200000
DTSTAMP:20260423T180330
CREATED:20220119T151950Z
LAST-MODIFIED:20220126T194156Z
UID:3577-1645641000-1645646400@bookgivedenver.org
SUMMARY:Books & Bottles
DESCRIPTION:Wine tasting + preview of upcoming titles yet to be released to the general public.\nBooks & Bottles is an intimate gathering to sample several luscious wines while enjoying a sneak preview to upcoming book releases yet to hit the book stores. \nPurchase tickets here and read on for more details. \nYou’ll enjoy comments and suggestions from from Paul Bonacquisti of Bonacquisti Wine Company who will talk us through a carefully chosen selection of wines to taste and discuss. Emily Smolarek of Penguin Random House offers a pre-preview of the upcoming titles you’ll get to hear about before anyone else. \nThe setting is the BookGive Service Station\, our renovated 1940’s era gas station filled with free books ready for donation to community organizations who need them. Imagine 20-foot ceilings and room to spread out among the stacks. Individually packaged charcuterie included. \nOnly 20 tickets available. All guests and speakers required to show proof of vaccination and booster. Masks must be worn while not actively sipping or nibbling. \nTickets are $60 per guest and include 3-4 wine tastings\, charcuterie selection and one and a half hours of book and wine expertise and conversation. Purchase tickets. \nRefund policy: Full refunds will be provided (minus Eventbrite’s transaction fee) should this event be canceled due to weather conditions or Covid-related issues for the presenters.
URL:https://bookgivedenver.org/event/books-bottles/
LOCATION:BookGive Service Station\, 4890 Lowell Blvd\, Denver\, CO\, 80221\, United States
CATEGORIES:Fundraiser
ATTACH;FMTTYPE=image/png:https://bookgivedenver.org/wp-content/uploads/2022/01/Books-Bottles-1.png
END:VEVENT
BEGIN:VEVENT
DTSTART;TZID=America/Denver:20210716T070000
DTEND;TZID=America/Denver:20210716T203000
DTSTAMP:20260423T180330
CREATED:20210618T150342Z
LAST-MODIFIED:20210628T170643Z
UID:3221-1626418800-1626467400@bookgivedenver.org
SUMMARY:Improv Comedy Night Fundraiser
DESCRIPTION:Purchase tickets: https://www.eventbrite.com/e/bookgive-improv-comedy-night-fundraiser-tickets-160024847627 \nUnique outdoor improv comedy fundraiser. Comics use audience suggestions to create scenes\, situations\, and clever one-liners. BYOB. \nEnjoy a sunset comedy hour with the Front deRanged Improv Comedy Troupe. With the BookGive service station – a 1940’s era gas station full of books – as the back drop\, bring your own chair and all your craziest suggestions to draw out the best on-the-spot comedy of the summer! \nComedy lovers are welcome to bring their own food and beverages or grab take out from our neighboring establishments. Light snacks are included with ticket. \nWild book games planned for intermission! \nAll proceeds from this event support BookGive’s mission to deliver free books to schools\, nonprofits and agencies throughout Denver-metro. Thank you. \nTailgate starts at 6:30pm. BYOC: Bring your own CHAIR\, not blankets. Seating is on concrete driveway area in front of garage. \nFree parking behind building or streetside.
URL:https://bookgivedenver.org/event/improv-comedy-night-fundraiser/
LOCATION:BookGive Service Station\, 4890 Lowell Blvd\, Denver\, CO\, 80221\, United States
CATEGORIES:Fundraiser
ATTACH;FMTTYPE=image/png:https://bookgivedenver.org/wp-content/uploads/2021/06/Improv-Comedy-Night-4.png
END:VEVENT
END:VCALENDAR