BEGIN:VCALENDAR
VERSION:2.0
PRODID:-//BookGive - ECPv6.15.20//NONSGML v1.0//EN
CALSCALE:GREGORIAN
METHOD:PUBLISH
X-WR-CALNAME:BookGive
X-ORIGINAL-URL:https://bookgivedenver.org
X-WR-CALDESC:Events for BookGive
REFRESH-INTERVAL;VALUE=DURATION:PT1H
X-Robots-Tag:noindex
X-PUBLISHED-TTL:PT1H
BEGIN:VTIMEZONE
TZID:America/Denver
BEGIN:DAYLIGHT
TZOFFSETFROM:-0700
TZOFFSETTO:-0600
TZNAME:MDT
DTSTART:20200308T090000
END:DAYLIGHT
BEGIN:STANDARD
TZOFFSETFROM:-0600
TZOFFSETTO:-0700
TZNAME:MST
DTSTART:20201101T080000
END:STANDARD
BEGIN:DAYLIGHT
TZOFFSETFROM:-0700
TZOFFSETTO:-0600
TZNAME:MDT
DTSTART:20210314T090000
END:DAYLIGHT
BEGIN:STANDARD
TZOFFSETFROM:-0600
TZOFFSETTO:-0700
TZNAME:MST
DTSTART:20211107T080000
END:STANDARD
BEGIN:DAYLIGHT
TZOFFSETFROM:-0700
TZOFFSETTO:-0600
TZNAME:MDT
DTSTART:20220313T090000
END:DAYLIGHT
BEGIN:STANDARD
TZOFFSETFROM:-0600
TZOFFSETTO:-0700
TZNAME:MST
DTSTART:20221106T080000
END:STANDARD
BEGIN:DAYLIGHT
TZOFFSETFROM:-0700
TZOFFSETTO:-0600
TZNAME:MDT
DTSTART:20230312T090000
END:DAYLIGHT
BEGIN:STANDARD
TZOFFSETFROM:-0600
TZOFFSETTO:-0700
TZNAME:MST
DTSTART:20231105T080000
END:STANDARD
BEGIN:DAYLIGHT
TZOFFSETFROM:-0700
TZOFFSETTO:-0600
TZNAME:MDT
DTSTART:20240310T090000
END:DAYLIGHT
BEGIN:STANDARD
TZOFFSETFROM:-0600
TZOFFSETTO:-0700
TZNAME:MST
DTSTART:20241103T080000
END:STANDARD
BEGIN:DAYLIGHT
TZOFFSETFROM:-0700
TZOFFSETTO:-0600
TZNAME:MDT
DTSTART:20250309T090000
END:DAYLIGHT
BEGIN:STANDARD
TZOFFSETFROM:-0600
TZOFFSETTO:-0700
TZNAME:MST
DTSTART:20251102T080000
END:STANDARD
END:VTIMEZONE
BEGIN:VEVENT
DTSTART;TZID=America/Denver:20240831T090000
DTEND;TZID=America/Denver:20240831T120000
DTSTAMP:20260423T164855
CREATED:20240827T002839Z
LAST-MODIFIED:20240827T003815Z
UID:4968-1725094800-1725105600@bookgivedenver.org
SUMMARY:Back to School BookGive-away
DESCRIPTION:Attention teachers and families! Stock your school and home libraries with gently-used FREE books. \n*** For personal use only. Not for resale.
URL:https://bookgivedenver.org/event/back-to-school-bookgive-away/
LOCATION:BookGive Service Station\, 4890 Lowell Blvd\, Denver\, CO\, 80221\, United States
CATEGORIES:Community Events
ATTACH;FMTTYPE=image/png:https://bookgivedenver.org/wp-content/uploads/2024/08/Back-to-School.png
END:VEVENT
BEGIN:VEVENT
DTSTART;TZID=America/Denver:20240525T133000
DTEND;TZID=America/Denver:20240525T160000
DTSTAMP:20260423T164855
CREATED:20240508T173119Z
LAST-MODIFIED:20240508T173119Z
UID:4910-1716643800-1716652800@bookgivedenver.org
SUMMARY:Family Volunteer Day
DESCRIPTION:Trying to start a family culture of community service? Looking for ways to introduce your kids to volunteering? Join us at The Station to volunteer as a family! \nSign up for 30-minute slots for up to 2 adults and 3 kids (5 and older) to help process book donations and fill book orders. While here\, take a few minutes to find some new books for your household. \nSign up HERE \n  \n 
URL:https://bookgivedenver.org/event/family-volunteer-day-2/
LOCATION:BookGive Service Station\, 4890 Lowell Blvd\, Denver\, CO\, 80221\, United States
CATEGORIES:Community Events
ATTACH;FMTTYPE=image/png:https://bookgivedenver.org/wp-content/uploads/2024/05/FAmily-Volunteer-Day.png
END:VEVENT
BEGIN:VEVENT
DTSTART;TZID=America/Denver:20240525T100000
DTEND;TZID=America/Denver:20240525T130000
DTSTAMP:20260423T164855
CREATED:20240508T171821Z
LAST-MODIFIED:20240508T171821Z
UID:4907-1716631200-1716642000@bookgivedenver.org
SUMMARY:Summer Reading Book Give-Away
DESCRIPTION:Come fill a bag with books to read over the summer. This outdoor event will take place at our service station\, 4890 Lowell Blvd. The event is free and open to the public. \nThere is no limit to the number of books you can take. \nPlease invite your teachers and neighbors\, family and friends. \nOur vision is that every household in Denver has plenty of books for all the family to read. For children especially\, book ownership is correlated with better educational outcomes\, so we strive to place books into the hands of not just new readers\, but new book owners.
URL:https://bookgivedenver.org/event/summer-reading-book-give-away-3/
LOCATION:BookGive Service Station\, 4890 Lowell Blvd\, Denver\, CO\, 80221\, United States
CATEGORIES:Community Events
ATTACH;FMTTYPE=image/png:https://bookgivedenver.org/wp-content/uploads/2024/05/Volunteer.png
END:VEVENT
BEGIN:VEVENT
DTSTART;TZID=America/Denver:20221210T120000
DTEND;TZID=America/Denver:20221210T140000
DTSTAMP:20260423T164855
CREATED:20221031T223005Z
LAST-MODIFIED:20221111T155315Z
UID:3940-1670673600-1670680800@bookgivedenver.org
SUMMARY:Holiday Book Give-Away
DESCRIPTION:Come choose fabulous books to give as gifts this holiday season – all books are FREE!\nThere is no limit to the number of books you can take. Everyone on your list wil be so grateful to have lovely books as gifts. Gifts for teachers\, neighbors\, favorite folks like hair dressers and baristas! All the books are free – be generous. Why not? \nWe’ll have the holiday music jamming and some of the North Pole’s elves will bring extra cheer and joy. Free gift wrapping will be provided while supplies last. \n  \nThis outdoor event is free and open to the public. Dress for the weather. \nIf you think this event might be canceled due to inclement weather\, check our social media (Instagram and Facebook) the morning of the event.
URL:https://bookgivedenver.org/event/holiday-book-give-away-2/
LOCATION:BookGive Service Station\, 4890 Lowell Blvd\, Denver\, CO\, 80221\, United States
CATEGORIES:Community Events
ATTACH;FMTTYPE=image/png:https://bookgivedenver.org/wp-content/uploads/2022/10/HBGA-2022-1.png
END:VEVENT
BEGIN:VEVENT
DTSTART;TZID=America/Denver:20220827T090000
DTEND;TZID=America/Denver:20220827T120000
DTSTAMP:20260423T164855
CREATED:20220720T163326Z
LAST-MODIFIED:20220726T230656Z
UID:3834-1661590800-1661601600@bookgivedenver.org
SUMMARY:Back-to-School Book Give-Away
DESCRIPTION:It’s time to get ready for an awesome school year of READING! \n(Don’t worry – it’s not just for kids! Grown-ups read all year too!) \nEvery book is free. There is no limit to the number of books you can take. Seriously. \nThis community event is outdoors\, free and open to the public. Masks are optional. We request careful social distancing to protect our youngest guests. \nBooks for all ages\, including babies and adults! \nNEW this year – teacher materials! While supplies last. \nNo limit on how many books you can take. We have plenty of bags and boxes you can use. \nIf you’ve never been to a BookGive book give-away\, you’re about to be wow’ed. You’ll find 10-12 tables placed in front of our adorable 1940’s era gas station headquarters with thousands of books for you to browse and pile into your tote\, crate\, box or wagon. Volunteers will be on hand to help you find what you need. You’ll be surrounded by lots of other book lovers. You’re bound to find some fabulous treasures to enjoy! \nBookGive’s events are made possible by many donations from individuals\, grant funding and sponsorship. This year’s Back-to-School Book Give-Away is sponsored by Fortis Law Partners.
URL:https://bookgivedenver.org/event/back-to-school-book-give-away-2/
LOCATION:BookGive Service Station\, 4890 Lowell Blvd\, Denver\, CO\, 80221\, United States
CATEGORIES:Community Events
ATTACH;FMTTYPE=image/png:https://bookgivedenver.org/wp-content/uploads/2022/07/BTS-2022-1.png
END:VEVENT
BEGIN:VEVENT
DTSTART;TZID=America/Denver:20220521T100000
DTEND;TZID=America/Denver:20220521T130000
DTSTAMP:20260423T164855
CREATED:20220331T183603Z
LAST-MODIFIED:20220509T212808Z
UID:3662-1653127200-1653138000@bookgivedenver.org
SUMMARY:Summer Reading Book Give-Away
DESCRIPTION:Come fill a bag with books to read over the summer. This outdoor event will take place at our service station\, 4890 Lowell Blvd. The event is free and open to the public. \nWe’ll have bags and boxes you can use\, and you’re welcome to bring your own. There is no limit to the number of books you can take. \nPlease invite your teachers and neighbors\, family and friends. \nOur vision is that every household in Denver has plenty of books for all the family to read. For children especially\, book ownership is correlated with better educational outcomes\, so we strive to place books into the hands of not just new readers\, but new book owners. \nThis event is sponsored by Peak Resources\, Denver’s leading technology solutions firm.
URL:https://bookgivedenver.org/event/summer-reading-book-give-away-2/
LOCATION:BookGive Service Station\, 4890 Lowell Blvd\, Denver\, CO\, 80221\, United States
CATEGORIES:Community Events
ATTACH;FMTTYPE=image/png:https://bookgivedenver.org/wp-content/uploads/2022/03/Summer-Reading-2022-1.png
END:VEVENT
BEGIN:VEVENT
DTSTART;TZID=America/Denver:20211211T120000
DTEND;TZID=America/Denver:20211211T140000
DTSTAMP:20260423T164855
CREATED:20211022T221828Z
LAST-MODIFIED:20211022T222841Z
UID:3318-1639224000-1639231200@bookgivedenver.org
SUMMARY:Holiday Book Give-Away
DESCRIPTION:Come choose fabulous books to give as gifts this holiday season – all books are FREE!\nThere is no limit to the number of books you can take. Everyone on your list wil be so grateful to have lovely books as gifts. Gifts for teachers\, neighbors\, favorite folks like hair dressers and baristas! All the books are free – be generous. Why not? \nWe’ll have the holiday music jamming and some of the North Pole’s elves will bring extra cheer and joy. Wrapping will be provided while supplies last. \nThis outdoor event is free and open to the public. Dress for the weather. \nIf you think this event might be canceled due to inclement weather\, check our social media (Instagram and Facebook) the morning of the event.
URL:https://bookgivedenver.org/event/holiday-book-give-away-2021/
LOCATION:BookGive Service Station\, 4890 Lowell Blvd\, Denver\, CO\, 80221\, United States
CATEGORIES:Community Events
ATTACH;FMTTYPE=image/png:https://bookgivedenver.org/wp-content/uploads/2021/10/Holiday-Book-Event.png
END:VEVENT
BEGIN:VEVENT
DTSTART;TZID=America/Denver:20210807T090000
DTEND;TZID=America/Denver:20210807T120000
DTSTAMP:20260423T164855
CREATED:20210716T221054Z
LAST-MODIFIED:20210716T221054Z
UID:3234-1628326800-1628337600@bookgivedenver.org
SUMMARY:Back-to-School Book Give-Away
DESCRIPTION:Teachers & Families! Start the school year with lots of fun FREE reading. This community event is outdoors\, free and open to the public. Masks are optional for vaccinated guests. We request careful social distancing to protect our youngest guests who are not able to be vaccinated. \nNo limit on how many books you can take. We have plenty of bags and boxes you can use.
URL:https://bookgivedenver.org/event/back-to-school-book-give-away/
LOCATION:BookGive Service Station\, 4890 Lowell Blvd\, Denver\, CO\, 80221\, United States
CATEGORIES:Community Events
ATTACH;FMTTYPE=image/png:https://bookgivedenver.org/wp-content/uploads/2021/07/Add-a-subheading-2.png
END:VEVENT
BEGIN:VEVENT
DTSTART;TZID=America/Denver:20210515T100000
DTEND;TZID=America/Denver:20210515T120000
DTSTAMP:20260423T164855
CREATED:20210415T190149Z
LAST-MODIFIED:20210415T191117Z
UID:3144-1621072800-1621080000@bookgivedenver.org
SUMMARY:Summer Reading Book Give-Away
DESCRIPTION:Come fill a bag with books to read over the summer. This outdoor event will take place at our service station\, 4890 Lowell Blvd. The event is free and open to the public. Masks required\, even for those who are vaccinated. \nOur vision is that every household in Denver has plenty of books for all the family to read. For children especially\, book ownership is correlated with better educational outcomes\, so we strive to place books into the hands of not just new readers\, but new book owners. \nWe have some cool bags to give away too\, so just come and fill ‘er up at the service station on May 15\, 10am-noon. Can’t wait to see you there! \nMade possible by hundreds of indivdual BookGive donors. \n 
URL:https://bookgivedenver.org/event/summer-reading-book-give-away/
LOCATION:BookGive Service Station\, 4890 Lowell Blvd\, Denver\, CO\, 80221\, United States
CATEGORIES:Community Events
ATTACH;FMTTYPE=image/png:https://bookgivedenver.org/wp-content/uploads/2021/04/Summer-Reading-SM-Post.png
END:VEVENT
END:VCALENDAR