BEGIN:VCALENDAR
VERSION:2.0
PRODID:-//BookGive - ECPv6.15.20//NONSGML v1.0//EN
CALSCALE:GREGORIAN
METHOD:PUBLISH
X-WR-CALNAME:BookGive
X-ORIGINAL-URL:https://bookgivedenver.org
X-WR-CALDESC:Events for BookGive
REFRESH-INTERVAL;VALUE=DURATION:PT1H
X-Robots-Tag:noindex
X-PUBLISHED-TTL:PT1H
BEGIN:VTIMEZONE
TZID:America/Denver
BEGIN:DAYLIGHT
TZOFFSETFROM:-0700
TZOFFSETTO:-0600
TZNAME:MDT
DTSTART:20200308T090000
END:DAYLIGHT
BEGIN:STANDARD
TZOFFSETFROM:-0600
TZOFFSETTO:-0700
TZNAME:MST
DTSTART:20201101T080000
END:STANDARD
BEGIN:DAYLIGHT
TZOFFSETFROM:-0700
TZOFFSETTO:-0600
TZNAME:MDT
DTSTART:20210314T090000
END:DAYLIGHT
BEGIN:STANDARD
TZOFFSETFROM:-0600
TZOFFSETTO:-0700
TZNAME:MST
DTSTART:20211107T080000
END:STANDARD
BEGIN:DAYLIGHT
TZOFFSETFROM:-0700
TZOFFSETTO:-0600
TZNAME:MDT
DTSTART:20220313T090000
END:DAYLIGHT
BEGIN:STANDARD
TZOFFSETFROM:-0600
TZOFFSETTO:-0700
TZNAME:MST
DTSTART:20221106T080000
END:STANDARD
END:VTIMEZONE
BEGIN:VEVENT
DTSTART;TZID=America/Denver:20211109T183000
DTEND;TZID=America/Denver:20211109T200000
DTSTAMP:20260423T181419
CREATED:20211013T183513Z
LAST-MODIFIED:20211015T180630Z
UID:3294-1636482600-1636488000@bookgivedenver.org
SUMMARY:Volunteer Appreciation
DESCRIPTION:Click here to RSVP!\n(It’s required.)\nALL VOLUNTEERS ARE INVITED to our very first in-person volunteer appreciation celebration! \nWhether you have volunteered one hour or a hundred\, last week or last year – you are WELCOME. Please join us. \nSAFETY is so important to all of us. We ask that only vaccinated volunteers attend. \nThe Denver Elks Lodge is providing us two spaces to maximize safety. One is outside with heat lamps. Yes\, it’ll be chilly on Nov 9\, so do bundle up. The other space is a huge indoor ballroom space made for WAY more people than our expected 50 or less. The CDC recommends masking indoors and/or keeping distance if you need to unmask for food and drink. We can handle that! \nBookGive offers up to two drinks for each volunteer at the bar. Food will be provided covid safe (no shared or open platter type stuff.) \nThere will be acknowledgments and some fun bookish games. You know BookGive volunteers are the most fun\, so please do join us! \nRSVP at this link please!
URL:https://bookgivedenver.org/event/volunteer-appreciation/
LOCATION:Denver Elks Lodge\, 2475 W. 25th Ave.\, Denver\, CO
CATEGORIES:celebrations
ATTACH;FMTTYPE=image/png:https://bookgivedenver.org/wp-content/uploads/2021/10/Vol-Appreciation.png
END:VEVENT
BEGIN:VEVENT
DTSTART;TZID=America/Denver:20210922T170000
DTEND;TZID=America/Denver:20210922T190000
DTSTAMP:20260423T181419
CREATED:20210819T193946Z
LAST-MODIFIED:20210819T223552Z
UID:3258-1632330000-1632337200@bookgivedenver.org
SUMMARY:GRAND (already open) OPENING!
DESCRIPTION:WE’RE FINALLY GETTING TO CELEBRATE!\nCOME JOIN US!\n\n\n\n\n\n\n\n\nSince we never got to host one in 2020\, we’re having our grand “opening” now. \nCome mingle with our board\, staff and council. You’ll get to hear from our leadership about the BookGive story\, our successes and what the future looks like. Mosey among the stacks with other BookGive supporters like yourself. \nBeer\, wine and munchies will be available\, covid-safe. This event takes place outside the BookGive Service Station. Masks are optional for those who are vaccinated. \n$20 minimum donation per guest\, please. \nBuy tickets now.
URL:https://bookgivedenver.org/event/grand-already-open-opening/
LOCATION:BookGive Service Station\, 4890 Lowell Blvd\, Denver\, CO\, 80221\, United States
CATEGORIES:celebrations
ATTACH;FMTTYPE=image/png:https://bookgivedenver.org/wp-content/uploads/2021/08/Grand-Already-Open-Opening.png
END:VEVENT
END:VCALENDAR